Package: preprocessCore Version: 1.64.0 Command: /Library/Frameworks/R.framework/Resources/bin/R CMD INSTALL preprocessCore StartedAt: 2024-04-15 15:03:53 -0400 (Mon, 15 Apr 2024) EndedAt: 2024-04-15 15:04:23 -0400 (Mon, 15 Apr 2024) EllapsedTime: 30.1 seconds RetCode: 0 Status: OK