Package: preprocessCore Version: 1.64.0 Command: /home/biocbuild/bbs-3.18-bioc/R/bin/R CMD build --keep-empty-dirs --no-resave-data preprocessCore StartedAt: 2024-04-15 18:35:35 -0400 (Mon, 15 Apr 2024) EndedAt: 2024-04-15 18:35:36 -0400 (Mon, 15 Apr 2024) EllapsedTime: 1.0 seconds RetCode: 0 Status: OK PackageFile: preprocessCore_1.64.0.tar.gz PackageFileSize: 121.1 KiB