Package: preprocessCore Version: 1.64.0 Command: /home/biocbuild/bbs-3.18-bioc/R/bin/R CMD check --install=check:preprocessCore.install-out.txt --library=/home/biocbuild/bbs-3.18-bioc/R/site-library --timings preprocessCore_1.64.0.tar.gz StartedAt: 2024-04-16 02:26:17 -0400 (Tue, 16 Apr 2024) EndedAt: 2024-04-16 02:26:34 -0400 (Tue, 16 Apr 2024) EllapsedTime: 17.0 seconds RetCode: 0 Status: WARNINGS CheckDir: preprocessCore.Rcheck Warnings: 1