Package: preprocessCore Version: 1.64.0 Command: rm -rf preprocessCore.buildbin-libdir && mkdir preprocessCore.buildbin-libdir && F:\biocbuild\bbs-3.18-bioc\R\bin\R.exe CMD INSTALL --build --library=preprocessCore.buildbin-libdir preprocessCore_1.64.0.tar.gz StartedAt: 2024-04-16 07:27:32 -0400 (Tue, 16 Apr 2024) EndedAt: 2024-04-16 07:27:49 -0400 (Tue, 16 Apr 2024) EllapsedTime: 17.6 seconds RetCode: 0 Status: OK PackageFile: preprocessCore_1.64.0.zip PackageFileSize: 166.3 KiB