Package: preprocessCore Version: 1.64.0 Command: chmod a+r preprocessCore -R && F:\biocbuild\bbs-3.18-bioc\R\bin\R.exe CMD build --keep-empty-dirs --no-resave-data preprocessCore StartedAt: 2024-04-15 20:23:56 -0400 (Mon, 15 Apr 2024) EndedAt: 2024-04-15 20:23:59 -0400 (Mon, 15 Apr 2024) EllapsedTime: 3.0 seconds RetCode: 0 Status: OK PackageFile: preprocessCore_1.64.0.tar.gz PackageFileSize: 121.1 KiB