Package: preprocessCore Version: 1.64.0 Command: F:\biocbuild\bbs-3.18-bioc\R\bin\R.exe CMD INSTALL preprocessCore StartedAt: 2024-04-15 15:35:49 -0400 (Mon, 15 Apr 2024) EndedAt: 2024-04-15 15:36:10 -0400 (Mon, 15 Apr 2024) EllapsedTime: 21.2 seconds RetCode: 0 Status: OK