Package: proBatch Version: 1.15.1 Command: /home/biocbuild/bbs-3.18-bioc/R/bin/R CMD build --keep-empty-dirs --no-resave-data proBatch StartedAt: 2023-04-20 05:27:05 -0400 (Thu, 20 Apr 2023) EndedAt: 2023-04-20 05:28:39 -0400 (Thu, 20 Apr 2023) EllapsedTime: 94.5 seconds RetCode: 0 Status: OK PackageFile: proBatch_1.15.1.tar.gz PackageFileSize: 2.691 MiB