Package: proDA Version: 1.16.0 Command: /Library/Frameworks/R.framework/Resources/bin/R CMD check --install=check:proDA.install-out.txt --library=/Library/Frameworks/R.framework/Resources/library --no-vignettes --timings proDA_1.16.0.tar.gz StartedAt: 2024-03-03 22:39:30 -0500 (Sun, 03 Mar 2024) EndedAt: 2024-03-03 22:44:38 -0500 (Sun, 03 Mar 2024) EllapsedTime: 308.7 seconds RetCode: 0 Status: OK CheckDir: proDA.Rcheck Warnings: 0