Package: proDA Version: 1.16.0 Command: chmod a+r proDA -R && F:\biocbuild\bbs-3.18-bioc\R\bin\R.exe CMD build --keep-empty-dirs --no-resave-data proDA StartedAt: 2024-04-15 20:24:31 -0400 (Mon, 15 Apr 2024) EndedAt: 2024-04-15 20:26:10 -0400 (Mon, 15 Apr 2024) EllapsedTime: 98.6 seconds RetCode: 0 Status: OK PackageFile: proDA_1.16.0.tar.gz PackageFileSize: 1.123 MiB