Package: procoil Version: 2.30.0 Command: /Library/Frameworks/R.framework/Resources/bin/R CMD check --install=check:procoil.install-out.txt --library=/Library/Frameworks/R.framework/Resources/library --no-vignettes --timings procoil_2.30.0.tar.gz StartedAt: 2024-04-16 07:08:40 -0400 (Tue, 16 Apr 2024) EndedAt: 2024-04-16 07:13:08 -0400 (Tue, 16 Apr 2024) EllapsedTime: 267.2 seconds RetCode: 0 Status: OK CheckDir: procoil.Rcheck Warnings: 0