Package: profileScoreDist Version: 1.30.0 Command: /home/biocbuild/bbs-3.18-bioc/R/bin/R CMD check --install=check:profileScoreDist.install-out.txt --library=/home/biocbuild/bbs-3.18-bioc/R/site-library --timings profileScoreDist_1.30.0.tar.gz StartedAt: 2024-04-16 02:29:44 -0400 (Tue, 16 Apr 2024) EndedAt: 2024-04-16 02:30:13 -0400 (Tue, 16 Apr 2024) EllapsedTime: 29.3 seconds RetCode: 0 Status: OK CheckDir: profileScoreDist.Rcheck Warnings: 0