Package: profileScoreDist Version: 1.30.0 Command: chmod a+r profileScoreDist -R && F:\biocbuild\bbs-3.18-bioc\R\bin\R.exe CMD build --keep-empty-dirs --no-resave-data profileScoreDist StartedAt: 2024-04-15 20:24:41 -0400 (Mon, 15 Apr 2024) EndedAt: 2024-04-15 20:25:13 -0400 (Mon, 15 Apr 2024) EllapsedTime: 31.7 seconds RetCode: 0 Status: OK PackageFile: profileScoreDist_1.30.0.tar.gz PackageFileSize: 187.8 KiB