Package: progeny Version: 1.24.0 Command: /Library/Frameworks/R.framework/Resources/bin/R CMD build --keep-empty-dirs --no-resave-data progeny StartedAt: 2024-03-03 17:52:24 -0500 (Sun, 03 Mar 2024) EndedAt: 2024-03-03 17:52:43 -0500 (Sun, 03 Mar 2024) EllapsedTime: 19.1 seconds RetCode: 0 Status: OK PackageFile: progeny_1.24.0.tar.gz PackageFileSize: 10.14 MiB