Package: progeny Version: 1.24.0 Command: /Library/Frameworks/R.framework/Resources/bin/R CMD build --keep-empty-dirs --no-resave-data progeny StartedAt: 2024-04-15 20:59:58 -0400 (Mon, 15 Apr 2024) EndedAt: 2024-04-15 21:00:31 -0400 (Mon, 15 Apr 2024) EllapsedTime: 32.9 seconds RetCode: 0 Status: OK PackageFile: progeny_1.24.0.tar.gz PackageFileSize: 10.15 MiB