Package: progeny Version: 1.24.0 Command: /Library/Frameworks/R.framework/Resources/bin/R CMD INSTALL progeny StartedAt: 2024-04-15 15:21:06 -0400 (Mon, 15 Apr 2024) EndedAt: 2024-04-15 15:21:24 -0400 (Mon, 15 Apr 2024) EllapsedTime: 18.0 seconds RetCode: 0 Status: OK