Package: protGear Version: 1.6.0 Command: /Library/Frameworks/R.framework/Resources/bin/R CMD build --keep-empty-dirs --no-resave-data protGear StartedAt: 2024-03-03 17:53:09 -0500 (Sun, 03 Mar 2024) EndedAt: 2024-03-03 17:54:23 -0500 (Sun, 03 Mar 2024) EllapsedTime: 74.8 seconds RetCode: 0 Status: OK PackageFile: protGear_1.6.0.tar.gz PackageFileSize: 4.691 MiB