Package: protGear
Version: 1.6.0
Command: /home/biocbuild/bbs-3.18-bioc/R/bin/R CMD build --keep-empty-dirs --no-resave-data protGear
StartedAt: 2024-04-15 18:37:20 -0400 (Mon, 15 Apr 2024)
EndedAt: 2024-04-15 18:38:20 -0400 (Mon, 15 Apr 2024)
EllapsedTime: 60.2 seconds
RetCode: 0
Status: OK
PackageFile: protGear_1.6.0.tar.gz
PackageFileSize: 4.303 <A href="http://en.wikipedia.org/wiki/MiB" target="_blank">MiB</A>