Package: psygenet2r Version: 1.34.1 Command: /Library/Frameworks/R.framework/Resources/bin/R CMD INSTALL psygenet2r StartedAt: 2024-04-15 15:46:19 -0400 (Mon, 15 Apr 2024) EndedAt: 2024-04-15 15:47:01 -0400 (Mon, 15 Apr 2024) EllapsedTime: 41.9 seconds RetCode: 0 Status: OK