Package: psygenet2r Version: 1.34.1 Command: /home/biocbuild/bbs-3.18-bioc/R/bin/R CMD check --install=check:psygenet2r.install-out.txt --library=/home/biocbuild/bbs-3.18-bioc/R/site-library --timings psygenet2r_1.34.1.tar.gz StartedAt: 2024-04-16 02:32:37 -0400 (Tue, 16 Apr 2024) EndedAt: 2024-04-16 02:51:27 -0400 (Tue, 16 Apr 2024) EllapsedTime: 1129.1 seconds RetCode: 0 Status: OK CheckDir: psygenet2r.Rcheck Warnings: 0