Package: pwOmics Version: 1.34.0 Command: /home/biocbuild/R/R-4.3.1/bin/R CMD INSTALL pwOmics StartedAt: 2023-11-01 21:06:41 -0000 (Wed, 01 Nov 2023) EndedAt: 2023-11-01 21:07:11 -0000 (Wed, 01 Nov 2023) EllapsedTime: 30.4 seconds RetCode: 0 Status: OK