Package: pwOmics Version: 1.34.0 Command: rm -rf pwOmics.buildbin-libdir && mkdir pwOmics.buildbin-libdir && /Users/biocbuild/BBS/utils/build-universal.sh pwOmics_1.34.0.tar.gz /Library/Frameworks/R.framework/Resources/bin/R pwOmics.buildbin-libdir StartedAt: 2024-04-16 12:28:12 -0400 (Tue, 16 Apr 2024) EndedAt: 2024-04-16 12:29:00 -0400 (Tue, 16 Apr 2024) EllapsedTime: 48.5 seconds RetCode: 0 Status: OK PackageFile: pwOmics_1.34.0.tgz PackageFileSize: 1.136 MiB