Package: pwOmics Version: 1.34.0 Command: rm -rf pwOmics.buildbin-libdir && mkdir pwOmics.buildbin-libdir && F:\biocbuild\bbs-3.18-bioc\R\bin\R.exe CMD INSTALL --build --library=pwOmics.buildbin-libdir pwOmics_1.34.0.tar.gz StartedAt: 2024-04-16 07:28:52 -0400 (Tue, 16 Apr 2024) EndedAt: 2024-04-16 07:29:26 -0400 (Tue, 16 Apr 2024) EllapsedTime: 34.7 seconds RetCode: 0 Status: OK PackageFile: pwOmics_1.34.0.zip PackageFileSize: 1.119 MiB