Package: qcmetrics Version: 1.40.1 Command: /Library/Frameworks/R.framework/Resources/bin/R CMD check --install=check:qcmetrics.install-out.txt --library=/Library/Frameworks/R.framework/Resources/library --no-vignettes --timings qcmetrics_1.40.1.tar.gz StartedAt: 2024-04-16 07:16:47 -0400 (Tue, 16 Apr 2024) EndedAt: 2024-04-16 07:18:53 -0400 (Tue, 16 Apr 2024) EllapsedTime: 125.6 seconds RetCode: 0 Status: OK CheckDir: qcmetrics.Rcheck Warnings: 0