Package: qpcrNorm Version: 1.60.0 Command: /home/biocbuild/bbs-3.18-bioc/R/bin/R CMD check --install=check:qpcrNorm.install-out.txt --library=/home/biocbuild/bbs-3.18-bioc/R/site-library --timings qpcrNorm_1.60.0.tar.gz StartedAt: 2024-04-16 02:36:00 -0400 (Tue, 16 Apr 2024) EndedAt: 2024-04-16 02:36:36 -0400 (Tue, 16 Apr 2024) EllapsedTime: 35.7 seconds RetCode: 0 Status: OK CheckDir: qpcrNorm.Rcheck Warnings: 0