Package: qpcrNorm Version: 1.60.0 Command: rm -rf qpcrNorm.buildbin-libdir && mkdir qpcrNorm.buildbin-libdir && F:\biocbuild\bbs-3.18-bioc\R\bin\R.exe CMD INSTALL --build --library=qpcrNorm.buildbin-libdir qpcrNorm_1.60.0.tar.gz StartedAt: 2024-04-16 07:29:10 -0400 (Tue, 16 Apr 2024) EndedAt: 2024-04-16 07:29:19 -0400 (Tue, 16 Apr 2024) EllapsedTime: 9.5 seconds RetCode: 0 Status: OK PackageFile: qpcrNorm_1.60.0.zip PackageFileSize: 529.7 KiB