Package: qpcrNorm Version: 1.60.0 Command: F:\biocbuild\bbs-3.18-bioc\R\bin\R.exe CMD INSTALL qpcrNorm StartedAt: 2024-04-15 15:41:06 -0400 (Mon, 15 Apr 2024) EndedAt: 2024-04-15 15:41:30 -0400 (Mon, 15 Apr 2024) EllapsedTime: 23.8 seconds RetCode: 0 Status: OK