Package: qrqc Version: 1.56.0 Command: /Library/Frameworks/R.framework/Resources/bin/R CMD INSTALL qrqc StartedAt: 2024-03-03 15:29:09 -0500 (Sun, 03 Mar 2024) EndedAt: 2024-03-03 15:29:12 -0500 (Sun, 03 Mar 2024) EllapsedTime: 2.7 seconds RetCode: 1 Status: ERROR