Package: qrqc Version: 1.56.0 Command: /home/biocbuild/bbs-3.18-bioc/R/bin/R CMD INSTALL qrqc StartedAt: 2024-04-15 15:33:57 -0400 (Mon, 15 Apr 2024) EndedAt: 2024-04-15 15:33:59 -0400 (Mon, 15 Apr 2024) EllapsedTime: 1.9 seconds RetCode: 1 Status: ERROR