Package: qrqc Version: 1.56.0 Command: F:\biocbuild\bbs-3.18-bioc\R\bin\R.exe CMD INSTALL qrqc StartedAt: 2024-04-15 16:19:56 -0400 (Mon, 15 Apr 2024) EndedAt: 2024-04-15 16:20:02 -0400 (Mon, 15 Apr 2024) EllapsedTime: 6.1 seconds RetCode: 1 Status: ERROR