Package: qsea Version: 1.28.0 Command: rm -rf qsea.buildbin-libdir && mkdir qsea.buildbin-libdir && F:\biocbuild\bbs-3.18-bioc\R\bin\R.exe CMD INSTALL --build --library=qsea.buildbin-libdir qsea_1.28.0.tar.gz StartedAt: 2024-04-16 07:29:16 -0400 (Tue, 16 Apr 2024) EndedAt: 2024-04-16 07:30:09 -0400 (Tue, 16 Apr 2024) EllapsedTime: 53.1 seconds RetCode: 0 Status: OK PackageFile: qsea_1.28.0.zip PackageFileSize: 918.4 KiB