Package: qsvaR Version: 1.6.0 Command: /home/biocbuild/R/R-4.3.1/bin/R CMD INSTALL qsvaR StartedAt: 2023-11-01 20:47:43 -0000 (Wed, 01 Nov 2023) EndedAt: 2023-11-01 20:48:24 -0000 (Wed, 01 Nov 2023) EllapsedTime: 41.3 seconds RetCode: 0 Status: OK