Package: qusage Version: 2.36.0 Command: /home/biocbuild/R/R-4.3.1/bin/R CMD build --keep-empty-dirs --no-resave-data qusage StartedAt: 2023-11-02 04:51:05 -0000 (Thu, 02 Nov 2023) EndedAt: 2023-11-02 05:01:47 -0000 (Thu, 02 Nov 2023) EllapsedTime: 642.8 seconds RetCode: 0 Status: OK PackageFile: qusage_2.36.0.tar.gz PackageFileSize: 9.622 MiB