Package: qusage Version: 2.36.0 Command: /home/biocbuild/R/R-4.3.1/bin/R CMD check --install=check:qusage.install-out.txt --library=/home/biocbuild/R/R-4.3.1/site-library --no-vignettes --timings qusage_2.36.0.tar.gz StartedAt: 2023-11-02 13:25:32 -0000 (Thu, 02 Nov 2023) EndedAt: 2023-11-02 13:27:24 -0000 (Thu, 02 Nov 2023) EllapsedTime: 112.2 seconds RetCode: 0 Status: OK CheckDir: qusage.Rcheck Warnings: 0