Package: qusage Version: 2.36.0 Command: /home/biocbuild/R/R-4.3.1/bin/R CMD INSTALL qusage StartedAt: 2023-11-01 20:10:05 -0000 (Wed, 01 Nov 2023) EndedAt: 2023-11-01 20:10:24 -0000 (Wed, 01 Nov 2023) EllapsedTime: 19.2 seconds RetCode: 0 Status: OK