Package: qusage Version: 2.36.0 Command: rm -rf qusage.buildbin-libdir && mkdir qusage.buildbin-libdir && /Users/biocbuild/BBS/utils/build-universal.sh qusage_2.36.0.tar.gz /Library/Frameworks/R.framework/Resources/bin/R qusage.buildbin-libdir StartedAt: 2024-03-04 00:57:57 -0500 (Mon, 04 Mar 2024) EndedAt: 2024-03-04 00:58:14 -0500 (Mon, 04 Mar 2024) EllapsedTime: 17.0 seconds RetCode: 0 Status: OK PackageFile: qusage_2.36.0.tgz PackageFileSize: 9.827 MiB