Package: qusage Version: 2.36.0 Command: /Library/Frameworks/R.framework/Resources/bin/R CMD INSTALL qusage StartedAt: 2024-04-15 15:11:20 -0400 (Mon, 15 Apr 2024) EndedAt: 2024-04-15 15:11:38 -0400 (Mon, 15 Apr 2024) EllapsedTime: 18.1 seconds RetCode: 0 Status: OK