Package: qusage Version: 2.36.0 Command: /home/biocbuild/bbs-3.18-bioc/R/bin/R CMD build --keep-empty-dirs --no-resave-data qusage StartedAt: 2024-04-15 18:41:03 -0400 (Mon, 15 Apr 2024) EndedAt: 2024-04-15 18:45:42 -0400 (Mon, 15 Apr 2024) EllapsedTime: 278.4 seconds RetCode: 0 Status: OK PackageFile: qusage_2.36.0.tar.gz PackageFileSize: 9.476 MiB