Package: qusage Version: 2.36.0 Command: rm -rf qusage.buildbin-libdir && mkdir qusage.buildbin-libdir && F:\biocbuild\bbs-3.18-bioc\R\bin\R.exe CMD INSTALL --build --library=qusage.buildbin-libdir qusage_2.36.0.tar.gz StartedAt: 2024-04-16 07:29:45 -0400 (Tue, 16 Apr 2024) EndedAt: 2024-04-16 07:30:01 -0400 (Tue, 16 Apr 2024) EllapsedTime: 16.0 seconds RetCode: 0 Status: OK PackageFile: qusage_2.36.0.zip PackageFileSize: 9.665 MiB