Package: qusage Version: 2.36.0 Command: chmod a+r qusage -R && F:\biocbuild\bbs-3.18-bioc\R\bin\R.exe CMD build --keep-empty-dirs --no-resave-data qusage StartedAt: 2024-04-15 20:30:18 -0400 (Mon, 15 Apr 2024) EndedAt: 2024-04-15 20:36:08 -0400 (Mon, 15 Apr 2024) EllapsedTime: 350.0 seconds RetCode: 0 Status: OK PackageFile: qusage_2.36.0.tar.gz PackageFileSize: 9.503 MiB