Package: r3Cseq Version: 1.48.0 Command: /home/biocbuild/R/R-4.3.1/bin/R CMD build --keep-empty-dirs --no-resave-data r3Cseq StartedAt: 2023-11-02 04:52:40 -0000 (Thu, 02 Nov 2023) EndedAt: 2023-11-02 04:55:09 -0000 (Thu, 02 Nov 2023) EllapsedTime: 149.2 seconds RetCode: 0 Status: OK PackageFile: r3Cseq_1.48.0.tar.gz PackageFileSize: 4.317 <A href="http://en.wikipedia.org/wiki/MiB" target="_blank">MiB</A>