Package: rGenomeTracks Version: 1.8.0 Command: /home/biocbuild/R/R-4.3.1/bin/R CMD check --install=check:rGenomeTracks.install-out.txt --library=/home/biocbuild/R/R-4.3.1/site-library --no-vignettes --timings rGenomeTracks_1.8.0.tar.gz StartedAt: 2023-11-02 13:40:38 -0000 (Thu, 02 Nov 2023) EndedAt: 2023-11-02 13:41:39 -0000 (Thu, 02 Nov 2023) EllapsedTime: 61.1 seconds RetCode: 0 Status: OK CheckDir: rGenomeTracks.Rcheck Warnings: 0