Package: rGenomeTracks Version: 1.8.0 Command: /Library/Frameworks/R.framework/Resources/bin/R CMD INSTALL rGenomeTracks StartedAt: 2024-03-03 15:46:49 -0500 (Sun, 03 Mar 2024) EndedAt: 2024-03-03 15:46:59 -0500 (Sun, 03 Mar 2024) EllapsedTime: 10.5 seconds RetCode: 0 Status: OK