Package: rGenomeTracks Version: 1.8.0 Command: /home/biocbuild/bbs-3.18-bioc/R/bin/R CMD build --keep-empty-dirs --no-resave-data rGenomeTracks StartedAt: 2024-04-15 18:49:11 -0400 (Mon, 15 Apr 2024) EndedAt: 2024-04-15 18:49:22 -0400 (Mon, 15 Apr 2024) EllapsedTime: 11.3 seconds RetCode: 0 Status: OK PackageFile: rGenomeTracks_1.8.0.tar.gz PackageFileSize: 3.341 MiB