Package: rSWeeP Version: 1.14.0 Command: /Library/Frameworks/R.framework/Resources/bin/R CMD check --install=check:rSWeeP.install-out.txt --library=/Library/Frameworks/R.framework/Resources/library --no-vignettes --timings rSWeeP_1.14.0.tar.gz StartedAt: 2024-04-16 08:09:51 -0400 (Tue, 16 Apr 2024) EndedAt: 2024-04-16 08:10:45 -0400 (Tue, 16 Apr 2024) EllapsedTime: 54.7 seconds RetCode: 0 Status: OK CheckDir: rSWeeP.Rcheck Warnings: 0