Package: rScudo Version: 1.18.1 Command: /Library/Frameworks/R.framework/Resources/bin/R CMD check --install=check:rScudo.install-out.txt --library=/Library/Frameworks/R.framework/Resources/library --no-vignettes --timings rScudo_1.18.1.tar.gz StartedAt: 2024-03-03 23:07:57 -0500 (Sun, 03 Mar 2024) EndedAt: 2024-03-03 23:08:48 -0500 (Sun, 03 Mar 2024) EllapsedTime: 50.9 seconds RetCode: 0 Status: OK CheckDir: rScudo.Rcheck Warnings: 0