Package: rScudo Version: 1.18.1 Command: /Library/Frameworks/R.framework/Resources/bin/R CMD check --install=check:rScudo.install-out.txt --library=/Library/Frameworks/R.framework/Resources/library --no-vignettes --timings rScudo_1.18.1.tar.gz StartedAt: 2024-04-16 08:08:21 -0400 (Tue, 16 Apr 2024) EndedAt: 2024-04-16 08:09:48 -0400 (Tue, 16 Apr 2024) EllapsedTime: 87.1 seconds RetCode: 0 Status: OK CheckDir: rScudo.Rcheck Warnings: 0