Package: rScudo Version: 1.18.1 Command: /home/biocbuild/bbs-3.18-bioc/R/bin/R CMD build --keep-empty-dirs --no-resave-data rScudo StartedAt: 2024-04-15 18:57:46 -0400 (Mon, 15 Apr 2024) EndedAt: 2024-04-15 18:59:14 -0400 (Mon, 15 Apr 2024) EllapsedTime: 87.3 seconds RetCode: 0 Status: OK PackageFile: rScudo_1.18.1.tar.gz PackageFileSize: 771.7 KiB