Package: rTRM Version: 1.40.0 Command: rm -rf rTRM.buildbin-libdir && mkdir rTRM.buildbin-libdir && /Users/biocbuild/BBS/utils/build-universal.sh rTRM_1.40.0.tar.gz /Library/Frameworks/R.framework/Resources/bin/R rTRM.buildbin-libdir StartedAt: 2024-04-16 12:37:51 -0400 (Tue, 16 Apr 2024) EndedAt: 2024-04-16 12:38:27 -0400 (Tue, 16 Apr 2024) EllapsedTime: 36.1 seconds RetCode: 0 Status: OK PackageFile: rTRM_1.40.0.tgz PackageFileSize: 3.506 MiB