Package: rTRM Version: 1.40.0 Command: /home/biocbuild/bbs-3.18-bioc/R/bin/R CMD build --keep-empty-dirs --no-resave-data rTRM StartedAt: 2024-04-15 18:59:04 -0400 (Mon, 15 Apr 2024) EndedAt: 2024-04-15 18:59:55 -0400 (Mon, 15 Apr 2024) EllapsedTime: 51.1 seconds RetCode: 0 Status: OK PackageFile: rTRM_1.40.0.tar.gz PackageFileSize: 3.586 MiB