Package: rTRM Version: 1.40.0 Command: chmod a+r rTRM -R && F:\biocbuild\bbs-3.18-bioc\R\bin\R.exe CMD build --keep-empty-dirs --no-resave-data rTRM StartedAt: 2024-04-15 20:50:46 -0400 (Mon, 15 Apr 2024) EndedAt: 2024-04-15 20:51:56 -0400 (Mon, 15 Apr 2024) EllapsedTime: 69.4 seconds RetCode: 0 Status: OK PackageFile: rTRM_1.40.0.tar.gz PackageFileSize: 3.29 MiB